BEGIN:VCALENDAR
VERSION:2.0
CALSCALE:GREGORIAN
PRODID:adamgibbons/ics
METHOD:PUBLISH
X-PUBLISHED-TTL:PT1H
BEGIN:VEVENT
UID:6723@gancio.cisti.org
SUMMARY:25 aprile Barriera e Aurora Resistenti
DTSTAMP:20260419T162448Z
DTSTART:20260425T080000Z
DTEND:20260425T130000Z
URL:https://gancio.cisti.org/event/25-aprile-barriera-e-aurora-resistenti
LOCATION:Manituana - Spazio Occupato Collettivo - Largo Maurizio Vitale 113
STATUS:CONFIRMED
CATEGORIES:25 aprile,25 Aprile,antifascismo,barriera e aurora resistenti
END:VEVENT
END:VCALENDAR
